{"text_format":"3","workbook":"xlsx","n_sheets":14,"sheets":["Cover Page","ToC","NCCF","Upload link","Sheet1","Sheet2","Sheet3","Sheet4","Sheet5","Sheet6","Sheet7","Sheet8","Sheet9","Sheet10"],"not_rendered":{"images":2,"defined_names":5},"read":"whole","date_system":"1900"}

{"sheet":"Cover Page","index":0,"n_rows":33,"n_cols":8,"rows_kept":33}
[]
[]
[]
[]
[]
[]
["EFFECTIVE OCTOBER 2021"]
[]
[]
[]
[]
[]
["Reporting"]
["Template:"]
["Net Cumulative"]
["Cash Flow"]
["B.C. Credit Unions"]
{"$rows_empty":10}
[null,null,"600 - 750 West Pender Street"]
[null,null,"Vancouver, B.C. V6C 2T8"]
[]
[null,null,"T 604 660 3555"]
[null,null,"F 604 660 3365"]
[null,null,"bcfsa.ca",{"$nulls":4},"Classification: Protected B"]

{"sheet":"ToC","index":1,"n_rows":26,"n_cols":4,"rows_kept":26,"merged":[[2,3,2,5],[15,1,15,5],[16,1,16,5],[25,1,25,5]]}
[]
[null,"Net Cumulative Cash Flow (NCCF)"]
[null,"Enter Credit Union Name:"]
[null,"Enter Charter No.:"]
[null,"Enter Reporting Period End Date:"]
[]
[]
[null,"Table of Contents:","Section","Page"]
[]
[null,"Cash Inflows (Balance Sheet - Assets)",5200,"NCCF"]
[null,"Cash Outflows (Balance Sheet - Liabilities and Equity)",5200,"NCCF"]
[null,"Memo Items: Commitments",5200,"NCCF"]
[]
[]
[null,"Instructions:"]
[null,"Refer to BCFSA's NCCF Regulatory Statement for details on the NCCF reporting requirements, including due dates, reporting frequency, and submitting the NCCF."]
[null,"Refer to the NCCF Reporting Instructions for details on completing the NCCF."]
[]
[]
[null,"Legend:"]
[null,"Datapoint Numbering (Section-Row-Column)"]
[null,"E.g., Cash on Hand, etc. (Position $): 5200-100-10"]
[null,"Data Input*"]
[null,"Formula (Locked - No Data Input Required)"]
[]
[null,"*Note: Please do not change, move (drag & drop), etc. Data Input cells, as links in the 'Upload link' tab may break and prevent successful submission of the completed NCCF."]

{"sheet":"NCCF","index":2,"n_rows":116,"n_cols":20,"rows_kept":116,"merged":[[2,3,2,5]]}
[]
[null,"Net Cumulative Cash Flow (NCCF)"]
[null,"Credit Union Name:",null,{"$f":"IF(ISBLANK(ToC!$D$3),\"\",ToC!$D$3)","v":""}]
[null,"Charter No.:",null,{"$f":"IF(ISBLANK(ToC!$D$4),\"\",ToC!$D$4)","v":""}]
[null,"Date:",null,{"$f":"IF(ISBLANK(ToC!$D$5),\"\",ToC!$D$5)","v":""}]
[]
[]
[null,"NCCF",null,"Position $","Week 1*","Week 2","Week 3","Week 4**","Month 2***","Month 3","Month 4","Month 5","Month 6","Month 7","Month 8","Month 9","Month 10","Month 11","Month 12","> 12 Months"]
[null,"Section 5200",null,10,20,21,22,23,30,31,32,33,34,35,36,37,38,39,40,50]
[]
[null,"Cash Inflows (Balance Sheet - Assets)"]
[]
[null,"Eligible Unencumbered Liquid Assets"]
[null,"Cash"]
[null,"Cash on Hand, Bank Notes, and Items in Transit","5200-100"]
[null,"Marketable Securities"]
[null,"Securities Issued by the Government of Canada:"]
[null,"Treasury Bills","5200-110"]
[null,"Bonds","5200-120"]
[null,"Stripped Coupons and Residuals","5200-130"]
[null,"Securities Guaranteed by the Government of Canada:"]
[null,"Canada Mortgage Bonds (CMB)","5200-140"]
[null,"National Housing Act Mortgage Backed Securities (NHA MBS)","5200-150"]
[null,"Stripped Coupons and Residuals","5200-160"]
[null,"Securities Issued or Guaranteed by a Provincial/Municipal Gov't","5200-170"]
[null,"Bankers' Acceptances, Promissory Notes, and Commercial Papers","5200-180"]
[null,"Corporate and Foreign-issued Bonds","5200-190"]
[null,"Securities Issued by the United States Treasury","5200-200"]
[null,"All Other Eligible Unencumbered Liquid Assets","5200-210"]
[]
[null,"Statutory Liquid Assets Held in Trust with Central 1","5200-220"]
[]
[null,"Cash Resources"]
[null,"Central 1 Credit Union Deposits:"]
[null,"Central 1 Operating Account","5200-230"]
[null,"Central 1 Deposits","5200-240"]
[null,"Deposits with Other Financial Institutions","5200-250"]
[]
[null,"Other Securities","5200-260"]
[]
[null,"Other Investments","5200-270"]
[]
[null,"Loans and Leases"]
[null,"Personal Loan Portfolio:"]
[null,"Residential Mortgages","5200-300"]
[null,"Personal Term Loans","5200-310"]
[null,"Personal Lines of Credit","5200-320"]
[null,"Personal Leases and Other","5200-330"]
[null,"Commercial Loan Portfolio:"]
[null,"Commercial Mortgages","5200-340"]
[null,"Commercial Term Loans","5200-350"]
[null,"Commercial Lines of Credit","5200-360"]
[null,"Commercial Leases and Other","5200-370"]
[]
[null,"Derivative Assets","5200-400"]
[]
[null,"All Other Assets","5200-410"]
[]
[null,"Total Cash Inflows (Assets)","5200-450",{"$f":"SUM(D15,D18:D20,D22:D29,D31,D35:D37,D39,D41,D45:D48,D50:D53,D55,D57)","v":{"v":0,"d":"0 "}},{"$f":"SUM(E15,E18:E20,E22:E29,E31,E35:E37,E39,E41,E45:E48,E50:E53,E55)","v":{"v":0,"d":"0 "}},{"$f":"SUM(F18:F20,F22:F29,F31,F36:F37,F39,F41,F45:F48,F50:F53,F55)","v":{"v":0,"d":"0 "}},{"$f":"SUM(G18:G20,G22:G29,G31,G36:G37,G39,G41,G45:G48,G50:G53,G55)","v":{"v":0,"d":"0 "}},{"v":0,"d":"0 "},{"v":0,"d":"0 "},{"v":0,"d":"0 "},{"v":0,"d":"0 "},{"v":0,"d":"0 "},{"v":0,"d":"0 "},{"v":0,"d":"0 "},{"v":0,"d":"0 "},{"v":0,"d":"0 "},{"v":0,"d":"0 "},{"v":0,"d":"0 "},{"v":0,"d":"0 "},{"$f":"SUM(T18:T20,T22:T29,T31,T36:T37,T39,T41,T45:T48,T50:T53,T55,T57)","v":{"v":0,"d":"0 "}}]
[]
[null,"Cash Outflows (Balance Sheet - Liabilities and Equity)"]
[]
[null,"Deposits"]
[null,"Retail Deposits:"]
[null,"Retail Demand and Chequing","5200-500"]
[null,"Cashable Term Retail Deposits","5200-510"]
[null,"Fixed Term Retail Deposits","5200-520"]
[null,"Brokered Deposits","5200-530"]
[null,"Wholesale Deposits:"]
[null,"Non-Financial Corporation Deposits - Operational","5200-540"]
[null,"Non-Financial Corporation Deposits - Non-Operational","5200-550"]
[null,"Non-Financial Corporation Deposits - Term","5200-560"]
[null,"Financial Institution Deposits","5200-570"]
[null,"Small Business Deposits","5200-580"]
[]
[null,"Borrowings"]
[null,"Central 1 Credit Union Borrowings:"]
[null,"Central 1 Operating Account (Overdraft)","5200-600"]
[null,"Central 1 Term Borrowings","5200-610"]
[null,"Other Borrowings (including Securitizations)","5200-620"]
[]
[null,"Derivative Liabilities","5200-650"]
[]
[null,"All Other Liabilities","5200-660"]
[]
[null,"Equity","5200-700"]
[]
[null,"Total Cash Outflows (Liabilities and Equity)","5200-750",{"$f":"SUM(D65:D68,D70:D74,D78:D80,D82,D84,D86)","v":{"v":0,"d":"0 "}},{"$f":"SUM(E65:E68,E70:E74,E78:E80,E82)","v":{"v":0,"d":"0 "}},{"$f":"SUM(F65:F68,F70:F74,F79:F80,F82)","v":{"v":0,"d":"0 "}},{"$f":"SUM(G65:G68,G70:G74,G79:G80,G82)","v":{"v":0,"d":"0 "}},{"v":0,"d":"0 "},{"v":0,"d":"0 "},{"v":0,"d":"0 "},{"v":0,"d":"0 "},{"v":0,"d":"0 "},{"v":0,"d":"0 "},{"v":0,"d":"0 "},{"v":0,"d":"0 "},{"v":0,"d":"0 "},{"v":0,"d":"0 "},{"v":0,"d":"0 "},{"v":0,"d":"0 "},{"$f":"SUM(T65:T68,T70:T74,T79:T80,T82,T84,T86)","v":{"v":0,"d":"0 "}}]
[]
[null,"Net Cash Inflow / (Outflow)","5200-800",null,{"$f":"E59-E88","v":{"v":0,"d":"0 "}},{"$f":"F59-F88","v":{"v":0,"d":"0 "}},{"v":0,"d":"0 "},{"v":0,"d":"0 "},{"v":0,"d":"0 "},{"v":0,"d":"0 "},{"v":0,"d":"0 "},{"v":0,"d":"0 "},{"v":0,"d":"0 "},{"v":0,"d":"0 "},{"v":0,"d":"0 "},{"v":0,"d":"0 "},{"v":0,"d":"0 "},{"v":0,"d":"0 "},{"v":0,"d":"0 "},{"v":0,"d":"0 "}]
[]
[null,"Net Cumulative Cash Flow","5200-850",null,{"$f":"E90","v":{"v":0,"d":"0 "}},{"$f":"F90+E92","v":{"v":0,"d":"0 "}},{"v":0,"d":"0 "},{"v":0,"d":"0 "},{"v":0,"d":"0 "},{"v":0,"d":"0 "},{"v":0,"d":"0 "},{"v":0,"d":"0 "},{"v":0,"d":"0 "},{"v":0,"d":"0 "},{"v":0,"d":"0 "},{"v":0,"d":"0 "},{"v":0,"d":"0 "},{"v":0,"d":"0 "},{"v":0,"d":"0 "},{"v":0,"d":"0 "}]
[]
[]
[null,"Memo Items:"]
[]
[null,"Off-Balance Sheet Commitments ","5200-900"]
[null,"Unfunded Portion of Committed Credit Facilities:"]
[null,"Personal Loan Portfolio Secured","5200-910"]
[null,"Personal Loan Portfolio Unsecured","5200-920"]
[null,"Commercial Loan Portfolio Secured","5200-930"]
[null,"Commercial Loan Portfolio Unsecured","5200-940"]
[null,"Other Unfunded Commitments","5200-950"]
[]
[null,"Total Commitments","5200-960",{"$f":"SUM(D97,D99:D103)","v":{"v":0,"d":"0 "}}]
[]
[null,"* Report total unencumbered liquid assets in Week 1 time bucket after the appropriate haircut is applied to in accordance with the Bank of Canada's Standing Liquidity Facility requirements."]
[null,"** Report in the Week 4 bucket for cash flows related to days 29, 30 and 31 of the first month, and apply the run-off rate assigned to week 4 cash flows."]
[null,"*** Report in the Month 2 bucket for cash flows related to the remaining days of week 5, and apply the monthly run-off rate assigned to month 2 cash flows."]
[]
[]
[]
[]
[]
[]
[" "]

{"sheet":"Upload link","index":3,"n_rows":714,"n_cols":2,"rows_kept":714}
["5200-100-10",{"$f":"NCCF!D15","v":0}]
["5200-110-10",{"$f":"NCCF!D18","v":0}]
["5200-120-10",{"$f":"NCCF!D19","v":0}]
["5200-130-10",{"$f":"NCCF!D20","v":0}]
["5200-140-10",{"$f":"NCCF!D22","v":0}]
["5200-150-10",{"$f":"NCCF!D23","v":0}]
["5200-160-10",{"$f":"NCCF!D24","v":0}]
["5200-170-10",{"$f":"NCCF!D25","v":0}]
["5200-180-10",{"$f":"NCCF!D26","v":0}]
["5200-190-10",{"$f":"NCCF!D27","v":0}]
["5200-200-10",{"$f":"NCCF!D28","v":0}]
["5200-210-10",{"$f":"NCCF!D29","v":0}]
["5200-220-10",{"$f":"NCCF!D31","v":0}]
["5200-230-10",{"$f":"NCCF!D35","v":0}]
["5200-240-10",{"$f":"NCCF!D36","v":0}]
["5200-250-10",{"$f":"NCCF!D37","v":0}]
["5200-260-10",{"$f":"NCCF!D39","v":0}]
["5200-270-10",{"$f":"NCCF!D41","v":0}]
["5200-300-10",{"$f":"NCCF!D45","v":0}]
["5200-310-10",{"$f":"NCCF!D46","v":0}]
["5200-320-10",{"$f":"NCCF!D47","v":0}]
["5200-330-10",{"$f":"NCCF!D48","v":0}]
["5200-340-10",{"$f":"NCCF!D50","v":0}]
["5200-350-10",{"$f":"NCCF!D51","v":0}]
["5200-360-10",{"$f":"NCCF!D52","v":0}]
["5200-370-10",{"$f":"NCCF!D53","v":0}]
["5200-400-10",{"$f":"NCCF!D55","v":0}]
["5200-410-10",{"$f":"NCCF!D57","v":0}]
["5200-450-10",{"$f":"NCCF!D59","v":0}]
["5200-500-10",{"$f":"NCCF!D65","v":0}]
["5200-510-10",{"$f":"NCCF!D66","v":0}]
["5200-520-10",{"$f":"NCCF!D67","v":0}]
["5200-530-10",{"$f":"NCCF!D68","v":0}]
["5200-540-10",{"$f":"NCCF!D70","v":0}]
["5200-550-10",{"$f":"NCCF!D71","v":0}]
["5200-560-10",{"$f":"NCCF!D72","v":0}]
["5200-570-10",{"$f":"NCCF!D73","v":0}]
["5200-580-10",{"$f":"NCCF!D74","v":0}]
["5200-600-10",{"$f":"NCCF!D78","v":0}]
["5200-610-10",{"$f":"NCCF!D79","v":0}]
["5200-620-10",{"$f":"NCCF!D80","v":0}]
["5200-650-10",{"$f":"NCCF!D82","v":0}]
["5200-660-10",{"$f":"NCCF!D84","v":0}]
["5200-700-10",{"$f":"NCCF!D86","v":0}]
["5200-750-10",{"$f":"NCCF!D88","v":0}]
["5200-900-10",{"$f":"NCCF!D97","v":0}]
["5200-910-10",{"$f":"NCCF!D99","v":0}]
["5200-920-10",{"$f":"NCCF!D100","v":0}]
["5200-930-10",{"$f":"NCCF!D101","v":0}]
["5200-940-10",{"$f":"NCCF!D102","v":0}]
["5200-950-10",{"$f":"NCCF!D103","v":0}]
["5200-960-10",{"$f":"NCCF!D105","v":0}]
["5200-100-20",{"$f":"NCCF!E15","v":0}]
["5200-110-20",{"$f":"NCCF!E18","v":0}]
["5200-120-20",{"$f":"NCCF!E19","v":0}]
["5200-130-20",{"$f":"NCCF!E20","v":0}]
["5200-140-20",{"$f":"NCCF!E22","v":0}]
["5200-150-20",{"$f":"NCCF!E23","v":0}]
["5200-160-20",{"$f":"NCCF!E24","v":0}]
["5200-170-20",{"$f":"NCCF!E25","v":0}]
["5200-180-20",{"$f":"NCCF!E26","v":0}]
["5200-190-20",{"$f":"NCCF!E27","v":0}]
["5200-200-20",{"$f":"NCCF!E28","v":0}]
["5200-210-20",{"$f":"NCCF!E29","v":0}]
["5200-220-20",{"$f":"NCCF!E31","v":0}]
["5200-230-20",{"$f":"NCCF!E35","v":0}]
["5200-240-20",{"$f":"NCCF!E36","v":0}]
["5200-250-20",{"$f":"NCCF!E37","v":0}]
["5200-260-20",{"$f":"NCCF!E39","v":0}]
["5200-270-20",{"$f":"NCCF!E41","v":0}]
["5200-300-20",{"$f":"NCCF!E45","v":0}]
["5200-310-20",{"$f":"NCCF!E46","v":0}]
["5200-320-20",{"$f":"NCCF!E47","v":0}]
["5200-330-20",{"$f":"NCCF!E48","v":0}]
["5200-340-20",{"$f":"NCCF!E50","v":0}]
["5200-350-20",{"$f":"NCCF!E51","v":0}]
["5200-360-20",{"$f":"NCCF!E52","v":0}]
["5200-370-20",{"$f":"NCCF!E53","v":0}]
["5200-400-20",{"$f":"NCCF!E55","v":0}]
["5200-450-20",{"$f":"NCCF!E59","v":0}]
["5200-500-20",{"$f":"NCCF!E65","v":0}]
["5200-510-20",{"$f":"NCCF!E66","v":0}]
["5200-520-20",{"$f":"NCCF!E67","v":0}]
["5200-530-20",{"$f":"NCCF!E68","v":0}]
["5200-540-20",{"$f":"NCCF!E70","v":0}]
["5200-550-20",{"$f":"NCCF!E71","v":0}]
["5200-560-20",{"$f":"NCCF!E72","v":0}]
["5200-570-20",{"$f":"NCCF!E73","v":0}]
["5200-580-20",{"$f":"NCCF!E74","v":0}]
["5200-600-20",{"$f":"NCCF!E78","v":0}]
["5200-610-20",{"$f":"NCCF!E79","v":0}]
["5200-620-20",{"$f":"NCCF!E80","v":0}]
["5200-650-20",{"$f":"NCCF!E82","v":0}]
["5200-750-20",{"$f":"NCCF!E88","v":0}]
["5200-800-20",{"$f":"NCCF!E90","v":0}]
["5200-850-20",{"$f":"NCCF!E92","v":0}]
["5200-110-21",{"$f":"NCCF!F18","v":0}]
["5200-120-21",{"$f":"NCCF!F19","v":0}]
["5200-130-21",{"$f":"NCCF!F20","v":0}]
["5200-140-21",{"$f":"NCCF!F22","v":0}]
["5200-150-21",{"$f":"NCCF!F23","v":0}]
["5200-160-21",{"$f":"NCCF!F24","v":0}]
["5200-170-21",{"$f":"NCCF!F25","v":0}]
["5200-180-21",{"$f":"NCCF!F26","v":0}]
["5200-190-21",{"$f":"NCCF!F27","v":0}]
["5200-200-21",{"$f":"NCCF!F28","v":0}]
["5200-210-21",{"$f":"NCCF!F29","v":0}]
["5200-220-21",{"$f":"NCCF!F31","v":0}]
["5200-240-21",{"$f":"NCCF!F36","v":0}]
["5200-250-21",{"$f":"NCCF!F37","v":0}]
["5200-260-21",{"$f":"NCCF!F39","v":0}]
["5200-270-21",{"$f":"NCCF!F41","v":0}]
["5200-300-21",{"$f":"NCCF!F45","v":0}]
["5200-310-21",{"$f":"NCCF!F46","v":0}]
["5200-320-21",{"$f":"NCCF!F47","v":0}]
["5200-330-21",{"$f":"NCCF!F48","v":0}]
["5200-340-21",{"$f":"NCCF!F50","v":0}]
["5200-350-21",{"$f":"NCCF!F51","v":0}]
["5200-360-21",{"$f":"NCCF!F52","v":0}]
["5200-370-21",{"$f":"NCCF!F53","v":0}]
["5200-400-21",{"$f":"NCCF!F55","v":0}]
["5200-450-21",{"$f":"NCCF!F59","v":0}]
["5200-500-21",{"$f":"NCCF!F65","v":0}]
["5200-510-21",{"$f":"NCCF!F66","v":0}]
["5200-520-21",{"$f":"NCCF!F67","v":0}]
["5200-530-21",{"$f":"NCCF!F68","v":0}]
["5200-540-21",{"$f":"NCCF!F70","v":0}]
["5200-550-21",{"$f":"NCCF!F71","v":0}]
["5200-560-21",{"$f":"NCCF!F72","v":0}]
["5200-570-21",{"$f":"NCCF!F73","v":0}]
["5200-580-21",{"$f":"NCCF!F74","v":0}]
["5200-610-21",{"$f":"NCCF!F79","v":0}]
["5200-620-21",{"$f":"NCCF!F80","v":0}]
["5200-650-21",{"$f":"NCCF!F82","v":0}]
["5200-750-21",{"$f":"NCCF!F88","v":0}]
["5200-800-21",{"$f":"NCCF!F90","v":0}]
["5200-850-21",{"$f":"NCCF!F92","v":0}]
["5200-110-22",{"$f":"NCCF!G18","v":0}]
["5200-120-22",{"$f":"NCCF!G19","v":0}]
["5200-130-22",{"$f":"NCCF!G20","v":0}]
["5200-140-22",{"$f":"NCCF!G22","v":0}]
["5200-150-22",{"$f":"NCCF!G23","v":0}]
["5200-160-22",{"$f":"NCCF!G24","v":0}]
["5200-170-22",{"$f":"NCCF!G25","v":0}]
["5200-180-22",{"$f":"NCCF!G26","v":0}]
["5200-190-22",{"$f":"NCCF!G27","v":0}]
["5200-200-22",{"$f":"NCCF!G28","v":0}]
["5200-210-22",{"$f":"NCCF!G29","v":0}]
["5200-220-22",{"$f":"NCCF!G31","v":0}]
["5200-240-22",{"$f":"NCCF!G36","v":0}]
["5200-250-22",{"$f":"NCCF!G37","v":0}]
["5200-260-22",{"$f":"NCCF!G39","v":0}]
["5200-270-22",{"$f":"NCCF!G41","v":0}]
["5200-300-22",{"$f":"NCCF!G45","v":0}]
["5200-310-22",{"$f":"NCCF!G46","v":0}]
["5200-320-22",{"$f":"NCCF!G47","v":0}]
["5200-330-22",{"$f":"NCCF!G48","v":0}]
["5200-340-22",{"$f":"NCCF!G50","v":0}]
["5200-350-22",{"$f":"NCCF!G51","v":0}]
["5200-360-22",{"$f":"NCCF!G52","v":0}]
["5200-370-22",{"$f":"NCCF!G53","v":0}]
["5200-400-22",{"$f":"NCCF!G55","v":0}]
["5200-450-22",{"$f":"NCCF!G59","v":0}]
["5200-500-22",{"$f":"NCCF!G65","v":0}]
["5200-510-22",{"$f":"NCCF!G66","v":0}]
["5200-520-22",{"$f":"NCCF!G67","v":0}]
["5200-530-22",{"$f":"NCCF!G68","v":0}]
["5200-540-22",{"$f":"NCCF!G70","v":0}]
["5200-550-22",{"$f":"NCCF!G71","v":0}]
["5200-560-22",{"$f":"NCCF!G72","v":0}]
["5200-570-22",{"$f":"NCCF!G73","v":0}]
["5200-580-22",{"$f":"NCCF!G74","v":0}]
["5200-610-22",{"$f":"NCCF!G79","v":0}]
["5200-620-22",{"$f":"NCCF!G80","v":0}]
["5200-650-22",{"$f":"NCCF!G82","v":0}]
["5200-750-22",{"$f":"NCCF!G88","v":0}]
["5200-800-22",{"$f":"NCCF!G90","v":0}]
["5200-850-22",{"$f":"NCCF!G92","v":0}]
["5200-110-23",{"$f":"NCCF!H18","v":0}]
["5200-120-23",{"$f":"NCCF!H19","v":0}]
["5200-130-23",{"$f":"NCCF!H20","v":0}]
["5200-140-23",{"$f":"NCCF!H22","v":0}]
["5200-150-23",{"$f":"NCCF!H23","v":0}]
["5200-160-23",{"$f":"NCCF!H24","v":0}]
["5200-170-23",{"$f":"NCCF!H25","v":0}]
["5200-180-23",{"$f":"NCCF!H26","v":0}]
["5200-190-23",{"$f":"NCCF!H27","v":0}]
["5200-200-23",{"$f":"NCCF!H28","v":0}]
["5200-210-23",{"$f":"NCCF!H29","v":0}]
["5200-220-23",{"$f":"NCCF!H31","v":0}]
["5200-240-23",{"$f":"NCCF!H36","v":0}]
["5200-250-23",{"$f":"NCCF!H37","v":0}]
["5200-260-23",{"$f":"NCCF!H39","v":0}]
["5200-270-23",{"$f":"NCCF!H41","v":0}]
["5200-300-23",{"$f":"NCCF!H45","v":0}]
["5200-310-23",{"$f":"NCCF!H46","v":0}]
["5200-320-23",{"$f":"NCCF!H47","v":0}]
["5200-330-23",{"$f":"NCCF!H48","v":0}]
["5200-340-23",{"$f":"NCCF!H50","v":0}]
["5200-350-23",{"$f":"NCCF!H51","v":0}]
["5200-360-23",{"$f":"NCCF!H52","v":0}]
["5200-370-23",{"$f":"NCCF!H53","v":0}]
["5200-400-23",{"$f":"NCCF!H55","v":0}]
["5200-450-23",{"$f":"NCCF!H59","v":0}]
["5200-500-23",{"$f":"NCCF!H65","v":0}]
["5200-510-23",{"$f":"NCCF!H66","v":0}]
["5200-520-23",{"$f":"NCCF!H67","v":0}]
["5200-530-23",{"$f":"NCCF!H68","v":0}]
["5200-540-23",{"$f":"NCCF!H70","v":0}]
["5200-550-23",{"$f":"NCCF!H71","v":0}]
["5200-560-23",{"$f":"NCCF!H72","v":0}]
["5200-570-23",{"$f":"NCCF!H73","v":0}]
["5200-580-23",{"$f":"NCCF!H74","v":0}]
["5200-610-23",{"$f":"NCCF!H79","v":0}]
["5200-620-23",{"$f":"NCCF!H80","v":0}]
["5200-650-23",{"$f":"NCCF!H82","v":0}]
["5200-750-23",{"$f":"NCCF!H88","v":0}]
["5200-800-23",{"$f":"NCCF!H90","v":0}]
["5200-850-23",{"$f":"NCCF!H92","v":0}]
["5200-110-30",{"$f":"NCCF!I18","v":0}]
["5200-120-30",{"$f":"NCCF!I19","v":0}]
["5200-130-30",{"$f":"NCCF!I20","v":0}]
["5200-140-30",{"$f":"NCCF!I22","v":0}]
["5200-150-30",{"$f":"NCCF!I23","v":0}]
["5200-160-30",{"$f":"NCCF!I24","v":0}]
["5200-170-30",{"$f":"NCCF!I25","v":0}]
["5200-180-30",{"$f":"NCCF!I26","v":0}]
["5200-190-30",{"$f":"NCCF!I27","v":0}]
["5200-200-30",{"$f":"NCCF!I28","v":0}]
["5200-210-30",{"$f":"NCCF!I29","v":0}]
["5200-220-30",{"$f":"NCCF!I31","v":0}]
["5200-240-30",{"$f":"NCCF!I36","v":0}]
["5200-250-30",{"$f":"NCCF!I37","v":0}]
["5200-260-30",{"$f":"NCCF!I39","v":0}]
["5200-270-30",{"$f":"NCCF!I41","v":0}]
["5200-300-30",{"$f":"NCCF!I45","v":0}]
["5200-310-30",{"$f":"NCCF!I46","v":0}]
["5200-320-30",{"$f":"NCCF!I47","v":0}]
["5200-330-30",{"$f":"NCCF!I48","v":0}]
["5200-340-30",{"$f":"NCCF!I50","v":0}]
["5200-350-30",{"$f":"NCCF!I51","v":0}]
["5200-360-30",{"$f":"NCCF!I52","v":0}]
["5200-370-30",{"$f":"NCCF!I53","v":0}]
["5200-400-30",{"$f":"NCCF!I55","v":0}]
["5200-450-30",{"$f":"NCCF!I59","v":0}]
["5200-500-30",{"$f":"NCCF!I65","v":0}]
["5200-510-30",{"$f":"NCCF!I66","v":0}]
["5200-520-30",{"$f":"NCCF!I67","v":0}]
["5200-530-30",{"$f":"NCCF!I68","v":0}]
["5200-540-30",{"$f":"NCCF!I70","v":0}]
["5200-550-30",{"$f":"NCCF!I71","v":0}]
["5200-560-30",{"$f":"NCCF!I72","v":0}]
["5200-570-30",{"$f":"NCCF!I73","v":0}]
["5200-580-30",{"$f":"NCCF!I74","v":0}]
["5200-610-30",{"$f":"NCCF!I79","v":0}]
["5200-620-30",{"$f":"NCCF!I80","v":0}]
["5200-650-30",{"$f":"NCCF!I82","v":0}]
["5200-750-30",{"$f":"NCCF!I88","v":0}]
["5200-800-30",{"$f":"NCCF!I90","v":0}]
["5200-850-30",{"$f":"NCCF!I92","v":0}]
["5200-110-31",{"$f":"NCCF!J18","v":0}]
["5200-120-31",{"$f":"NCCF!J19","v":0}]
["5200-130-31",{"$f":"NCCF!J20","v":0}]
["5200-140-31",{"$f":"NCCF!J22","v":0}]
["5200-150-31",{"$f":"NCCF!J23","v":0}]
["5200-160-31",{"$f":"NCCF!J24","v":0}]
["5200-170-31",{"$f":"NCCF!J25","v":0}]
["5200-180-31",{"$f":"NCCF!J26","v":0}]
["5200-190-31",{"$f":"NCCF!J27","v":0}]
["5200-200-31",{"$f":"NCCF!J28","v":0}]
["5200-210-31",{"$f":"NCCF!J29","v":0}]
["5200-220-31",{"$f":"NCCF!J31","v":0}]
["5200-240-31",{"$f":"NCCF!J36","v":0}]
["5200-250-31",{"$f":"NCCF!J37","v":0}]
["5200-260-31",{"$f":"NCCF!J39","v":0}]
["5200-270-31",{"$f":"NCCF!J41","v":0}]
["5200-300-31",{"$f":"NCCF!J45","v":0}]
["5200-310-31",{"$f":"NCCF!J46","v":0}]
["5200-320-31",{"$f":"NCCF!J47","v":0}]
["5200-330-31",{"$f":"NCCF!J48","v":0}]
["5200-340-31",{"$f":"NCCF!J50","v":0}]
["5200-350-31",{"$f":"NCCF!J51","v":0}]
["5200-360-31",{"$f":"NCCF!J52","v":0}]
["5200-370-31",{"$f":"NCCF!J53","v":0}]
["5200-400-31",{"$f":"NCCF!J55","v":0}]
["5200-450-31",{"$f":"NCCF!J59","v":0}]
["5200-500-31",{"$f":"NCCF!J65","v":0}]
["5200-510-31",{"$f":"NCCF!J66","v":0}]
["5200-520-31",{"$f":"NCCF!J67","v":0}]
["5200-530-31",{"$f":"NCCF!J68","v":0}]
["5200-540-31",{"$f":"NCCF!J70","v":0}]
["5200-550-31",{"$f":"NCCF!J71","v":0}]
["5200-560-31",{"$f":"NCCF!J72","v":0}]
["5200-570-31",{"$f":"NCCF!J73","v":0}]
["5200-580-31",{"$f":"NCCF!J74","v":0}]
["5200-610-31",{"$f":"NCCF!J79","v":0}]
["5200-620-31",{"$f":"NCCF!J80","v":0}]
["5200-650-31",{"$f":"NCCF!J82","v":0}]
["5200-750-31",{"$f":"NCCF!J88","v":0}]
["5200-800-31",{"$f":"NCCF!J90","v":0}]
["5200-850-31",{"$f":"NCCF!J92","v":0}]
["5200-110-32",{"$f":"NCCF!K18","v":0}]
["5200-120-32",{"$f":"NCCF!K19","v":0}]
["5200-130-32",{"$f":"NCCF!K20","v":0}]
["5200-140-32",{"$f":"NCCF!K22","v":0}]
["5200-150-32",{"$f":"NCCF!K23","v":0}]
["5200-160-32",{"$f":"NCCF!K24","v":0}]
["5200-170-32",{"$f":"NCCF!K25","v":0}]
["5200-180-32",{"$f":"NCCF!K26","v":0}]
["5200-190-32",{"$f":"NCCF!K27","v":0}]
["5200-200-32",{"$f":"NCCF!K28","v":0}]
["5200-210-32",{"$f":"NCCF!K29","v":0}]
["5200-220-32",{"$f":"NCCF!K31","v":0}]
["5200-240-32",{"$f":"NCCF!K36","v":0}]
["5200-250-32",{"$f":"NCCF!K37","v":0}]
["5200-260-32",{"$f":"NCCF!K39","v":0}]
["5200-270-32",{"$f":"NCCF!K41","v":0}]
["5200-300-32",{"$f":"NCCF!K45","v":0}]
["5200-310-32",{"$f":"NCCF!K46","v":0}]
["5200-320-32",{"$f":"NCCF!K47","v":0}]
["5200-330-32",{"$f":"NCCF!K48","v":0}]
["5200-340-32",{"$f":"NCCF!K50","v":0}]
["5200-350-32",{"$f":"NCCF!K51","v":0}]
["5200-360-32",{"$f":"NCCF!K52","v":0}]
["5200-370-32",{"$f":"NCCF!K53","v":0}]
["5200-400-32",{"$f":"NCCF!K55","v":0}]
["5200-450-32",{"$f":"NCCF!K59","v":0}]
["5200-500-32",{"$f":"NCCF!K65","v":0}]
["5200-510-32",{"$f":"NCCF!K66","v":0}]
["5200-520-32",{"$f":"NCCF!K67","v":0}]
["5200-530-32",{"$f":"NCCF!K68","v":0}]
["5200-540-32",{"$f":"NCCF!K70","v":0}]
["5200-550-32",{"$f":"NCCF!K71","v":0}]
["5200-560-32",{"$f":"NCCF!K72","v":0}]
["5200-570-32",{"$f":"NCCF!K73","v":0}]
["5200-580-32",{"$f":"NCCF!K74","v":0}]
["5200-610-32",{"$f":"NCCF!K79","v":0}]
["5200-620-32",{"$f":"NCCF!K80","v":0}]
["5200-650-32",{"$f":"NCCF!K82","v":0}]
["5200-750-32",{"$f":"NCCF!K88","v":0}]
["5200-800-32",{"$f":"NCCF!K90","v":0}]
["5200-850-32",{"$f":"NCCF!K92","v":0}]
["5200-110-33",{"$f":"NCCF!L18","v":0}]
["5200-120-33",{"$f":"NCCF!L19","v":0}]
["5200-130-33",{"$f":"NCCF!L20","v":0}]
["5200-140-33",{"$f":"NCCF!L22","v":0}]
["5200-150-33",{"$f":"NCCF!L23","v":0}]
["5200-160-33",{"$f":"NCCF!L24","v":0}]
["5200-170-33",{"$f":"NCCF!L25","v":0}]
["5200-180-33",{"$f":"NCCF!L26","v":0}]
["5200-190-33",{"$f":"NCCF!L27","v":0}]
["5200-200-33",{"$f":"NCCF!L28","v":0}]
["5200-210-33",{"$f":"NCCF!L29","v":0}]
["5200-220-33",{"$f":"NCCF!L31","v":0}]
["5200-240-33",{"$f":"NCCF!L36","v":0}]
["5200-250-33",{"$f":"NCCF!L37","v":0}]
["5200-260-33",{"$f":"NCCF!L39","v":0}]
["5200-270-33",{"$f":"NCCF!L41","v":0}]
["5200-300-33",{"$f":"NCCF!L45","v":0}]
["5200-310-33",{"$f":"NCCF!L46","v":0}]
["5200-320-33",{"$f":"NCCF!L47","v":0}]
["5200-330-33",{"$f":"NCCF!L48","v":0}]
["5200-340-33",{"$f":"NCCF!L50","v":0}]
["5200-350-33",{"$f":"NCCF!L51","v":0}]
["5200-360-33",{"$f":"NCCF!L52","v":0}]
["5200-370-33",{"$f":"NCCF!L53","v":0}]
["5200-400-33",{"$f":"NCCF!L55","v":0}]
["5200-450-33",{"$f":"NCCF!L59","v":0}]
["5200-500-33",{"$f":"NCCF!L65","v":0}]
["5200-510-33",{"$f":"NCCF!L66","v":0}]
["5200-520-33",{"$f":"NCCF!L67","v":0}]
["5200-530-33",{"$f":"NCCF!L68","v":0}]
["5200-540-33",{"$f":"NCCF!L70","v":0}]
["5200-550-33",{"$f":"NCCF!L71","v":0}]
["5200-560-33",{"$f":"NCCF!L72","v":0}]
["5200-570-33",{"$f":"NCCF!L73","v":0}]
["5200-580-33",{"$f":"NCCF!L74","v":0}]
["5200-610-33",{"$f":"NCCF!L79","v":0}]
["5200-620-33",{"$f":"NCCF!L80","v":0}]
["5200-650-33",{"$f":"NCCF!L82","v":0}]
["5200-750-33",{"$f":"NCCF!L88","v":0}]
["5200-800-33",{"$f":"NCCF!L90","v":0}]
["5200-850-33",{"$f":"NCCF!L92","v":0}]
["5200-110-34",{"$f":"NCCF!M18","v":0}]
["5200-120-34",{"$f":"NCCF!M19","v":0}]
["5200-130-34",{"$f":"NCCF!M20","v":0}]
["5200-140-34",{"$f":"NCCF!M22","v":0}]
["5200-150-34",{"$f":"NCCF!M23","v":0}]
["5200-160-34",{"$f":"NCCF!M24","v":0}]
["5200-170-34",{"$f":"NCCF!M25","v":0}]
["5200-180-34",{"$f":"NCCF!M26","v":0}]
["5200-190-34",{"$f":"NCCF!M27","v":0}]
["5200-200-34",{"$f":"NCCF!M28","v":0}]
["5200-210-34",{"$f":"NCCF!M29","v":0}]
["5200-220-34",{"$f":"NCCF!M31","v":0}]
["5200-240-34",{"$f":"NCCF!M36","v":0}]
["5200-250-34",{"$f":"NCCF!M37","v":0}]
["5200-260-34",{"$f":"NCCF!M39","v":0}]
["5200-270-34",{"$f":"NCCF!M41","v":0}]
["5200-300-34",{"$f":"NCCF!M45","v":0}]
["5200-310-34",{"$f":"NCCF!M46","v":0}]
["5200-320-34",{"$f":"NCCF!M47","v":0}]
["5200-330-34",{"$f":"NCCF!M48","v":0}]
["5200-340-34",{"$f":"NCCF!M50","v":0}]
["5200-350-34",{"$f":"NCCF!M51","v":0}]
["5200-360-34",{"$f":"NCCF!M52","v":0}]
["5200-370-34",{"$f":"NCCF!M53","v":0}]
["5200-400-34",{"$f":"NCCF!M55","v":0}]
["5200-450-34",{"$f":"NCCF!M59","v":0}]
["5200-500-34",{"$f":"NCCF!M65","v":0}]
["5200-510-34",{"$f":"NCCF!M66","v":0}]
["5200-520-34",{"$f":"NCCF!M67","v":0}]
["5200-530-34",{"$f":"NCCF!M68","v":0}]
["5200-540-34",{"$f":"NCCF!M70","v":0}]
["5200-550-34",{"$f":"NCCF!M71","v":0}]
["5200-560-34",{"$f":"NCCF!M72","v":0}]
["5200-570-34",{"$f":"NCCF!M73","v":0}]
["5200-580-34",{"$f":"NCCF!M74","v":0}]
["5200-610-34",{"$f":"NCCF!M79","v":0}]
["5200-620-34",{"$f":"NCCF!M80","v":0}]
["5200-650-34",{"$f":"NCCF!M82","v":0}]
["5200-750-34",{"$f":"NCCF!M88","v":0}]
["5200-800-34",{"$f":"NCCF!M90","v":0}]
["5200-850-34",{"$f":"NCCF!M92","v":0}]
["5200-110-35",{"$f":"NCCF!N18","v":0}]
["5200-120-35",{"$f":"NCCF!N19","v":0}]
["5200-130-35",{"$f":"NCCF!N20","v":0}]
["5200-140-35",{"$f":"NCCF!N22","v":0}]
["5200-150-35",{"$f":"NCCF!N23","v":0}]
["5200-160-35",{"$f":"NCCF!N24","v":0}]
["5200-170-35",{"$f":"NCCF!N25","v":0}]
["5200-180-35",{"$f":"NCCF!N26","v":0}]
["5200-190-35",{"$f":"NCCF!N27","v":0}]
["5200-200-35",{"$f":"NCCF!N28","v":0}]
["5200-210-35",{"$f":"NCCF!N29","v":0}]
["5200-220-35",{"$f":"NCCF!N31","v":0}]
["5200-240-35",{"$f":"NCCF!N36","v":0}]
["5200-250-35",{"$f":"NCCF!N37","v":0}]
["5200-260-35",{"$f":"NCCF!N39","v":0}]
["5200-270-35",{"$f":"NCCF!N41","v":0}]
["5200-300-35",{"$f":"NCCF!N45","v":0}]
["5200-310-35",{"$f":"NCCF!N46","v":0}]
["5200-320-35",{"$f":"NCCF!N47","v":0}]
["5200-330-35",{"$f":"NCCF!N48","v":0}]
["5200-340-35",{"$f":"NCCF!N50","v":0}]
["5200-350-35",{"$f":"NCCF!N51","v":0}]
["5200-360-35",{"$f":"NCCF!N52","v":0}]
["5200-370-35",{"$f":"NCCF!N53","v":0}]
["5200-400-35",{"$f":"NCCF!N55","v":0}]
["5200-450-35",{"$f":"NCCF!N59","v":0}]
["5200-500-35",{"$f":"NCCF!N65","v":0}]
["5200-510-35",{"$f":"NCCF!N66","v":0}]
["5200-520-35",{"$f":"NCCF!N67","v":0}]
["5200-530-35",{"$f":"NCCF!N68","v":0}]
["5200-540-35",{"$f":"NCCF!N70","v":0}]
["5200-550-35",{"$f":"NCCF!N71","v":0}]
["5200-560-35",{"$f":"NCCF!N72","v":0}]
["5200-570-35",{"$f":"NCCF!N73","v":0}]
["5200-580-35",{"$f":"NCCF!N74","v":0}]
["5200-610-35",{"$f":"NCCF!N79","v":0}]
["5200-620-35",{"$f":"NCCF!N80","v":0}]
["5200-650-35",{"$f":"NCCF!N82","v":0}]
["5200-750-35",{"$f":"NCCF!N88","v":0}]
["5200-800-35",{"$f":"NCCF!N90","v":0}]
["5200-850-35",{"$f":"NCCF!N92","v":0}]
["5200-110-36",{"$f":"NCCF!O18","v":0}]
["5200-120-36",{"$f":"NCCF!O19","v":0}]
["5200-130-36",{"$f":"NCCF!O20","v":0}]
["5200-140-36",{"$f":"NCCF!O22","v":0}]
["5200-150-36",{"$f":"NCCF!O23","v":0}]
["5200-160-36",{"$f":"NCCF!O24","v":0}]
["5200-170-36",{"$f":"NCCF!O25","v":0}]
["5200-180-36",{"$f":"NCCF!O26","v":0}]
["5200-190-36",{"$f":"NCCF!O27","v":0}]
["5200-200-36",{"$f":"NCCF!O28","v":0}]
["5200-210-36",{"$f":"NCCF!O29","v":0}]
["5200-220-36",{"$f":"NCCF!O31","v":0}]
["5200-240-36",{"$f":"NCCF!O36","v":0}]
["5200-250-36",{"$f":"NCCF!O37","v":0}]
["5200-260-36",{"$f":"NCCF!O39","v":0}]
["5200-270-36",{"$f":"NCCF!O41","v":0}]
["5200-300-36",{"$f":"NCCF!O45","v":0}]
["5200-310-36",{"$f":"NCCF!O46","v":0}]
["5200-320-36",{"$f":"NCCF!O47","v":0}]
["5200-330-36",{"$f":"NCCF!O48","v":0}]
["5200-340-36",{"$f":"NCCF!O50","v":0}]
["5200-350-36",{"$f":"NCCF!O51","v":0}]
["5200-360-36",{"$f":"NCCF!O52","v":0}]
["5200-370-36",{"$f":"NCCF!O53","v":0}]
["5200-400-36",{"$f":"NCCF!O55","v":0}]
["5200-450-36",{"$f":"NCCF!O59","v":0}]
["5200-500-36",{"$f":"NCCF!O65","v":0}]
["5200-510-36",{"$f":"NCCF!O66","v":0}]
["5200-520-36",{"$f":"NCCF!O67","v":0}]
["5200-530-36",{"$f":"NCCF!O68","v":0}]
["5200-540-36",{"$f":"NCCF!O70","v":0}]
["5200-550-36",{"$f":"NCCF!O71","v":0}]
["5200-560-36",{"$f":"NCCF!O72","v":0}]
["5200-570-36",{"$f":"NCCF!O73","v":0}]
["5200-580-36",{"$f":"NCCF!O74","v":0}]
["5200-610-36",{"$f":"NCCF!O79","v":0}]
["5200-620-36",{"$f":"NCCF!O80","v":0}]
["5200-650-36",{"$f":"NCCF!O82","v":0}]
["5200-750-36",{"$f":"NCCF!O88","v":0}]
["5200-800-36",{"$f":"NCCF!O90","v":0}]
["5200-850-36",{"$f":"NCCF!O92","v":0}]
["5200-110-37",{"$f":"NCCF!P18","v":0}]
["5200-120-37",{"$f":"NCCF!P19","v":0}]
["5200-130-37",{"$f":"NCCF!P20","v":0}]
["5200-140-37",{"$f":"NCCF!P22","v":0}]
["5200-150-37",{"$f":"NCCF!P23","v":0}]
["5200-160-37",{"$f":"NCCF!P24","v":0}]
["5200-170-37",{"$f":"NCCF!P25","v":0}]
["5200-180-37",{"$f":"NCCF!P26","v":0}]
["5200-190-37",{"$f":"NCCF!P27","v":0}]
["5200-200-37",{"$f":"NCCF!P28","v":0}]
["5200-210-37",{"$f":"NCCF!P29","v":0}]
["5200-220-37",{"$f":"NCCF!P31","v":0}]
["5200-240-37",{"$f":"NCCF!P36","v":0}]
["5200-250-37",{"$f":"NCCF!P37","v":0}]
["5200-260-37",{"$f":"NCCF!P39","v":0}]
["5200-270-37",{"$f":"NCCF!P41","v":0}]
["5200-300-37",{"$f":"NCCF!P45","v":0}]
["5200-310-37",{"$f":"NCCF!P46","v":0}]
["5200-320-37",{"$f":"NCCF!P47","v":0}]
["5200-330-37",{"$f":"NCCF!P48","v":0}]
["5200-340-37",{"$f":"NCCF!P50","v":0}]
["5200-350-37",{"$f":"NCCF!P51","v":0}]
["5200-360-37",{"$f":"NCCF!P52","v":0}]
["5200-370-37",{"$f":"NCCF!P53","v":0}]
["5200-400-37",{"$f":"NCCF!P55","v":0}]
["5200-450-37",{"$f":"NCCF!P59","v":0}]
["5200-500-37",{"$f":"NCCF!P65","v":0}]
["5200-510-37",{"$f":"NCCF!P66","v":0}]
["5200-520-37",{"$f":"NCCF!P67","v":0}]
["5200-530-37",{"$f":"NCCF!P68","v":0}]
["5200-540-37",{"$f":"NCCF!P70","v":0}]
["5200-550-37",{"$f":"NCCF!P71","v":0}]
["5200-560-37",{"$f":"NCCF!P72","v":0}]
["5200-570-37",{"$f":"NCCF!P73","v":0}]
["5200-580-37",{"$f":"NCCF!P74","v":0}]
["5200-610-37",{"$f":"NCCF!P79","v":0}]
["5200-620-37",{"$f":"NCCF!P80","v":0}]
["5200-650-37",{"$f":"NCCF!P82","v":0}]
["5200-750-37",{"$f":"NCCF!P88","v":0}]
["5200-800-37",{"$f":"NCCF!P90","v":0}]
["5200-850-37",{"$f":"NCCF!P92","v":0}]
["5200-110-38",{"$f":"NCCF!Q18","v":0}]
["5200-120-38",{"$f":"NCCF!Q19","v":0}]
["5200-130-38",{"$f":"NCCF!Q20","v":0}]
["5200-140-38",{"$f":"NCCF!Q22","v":0}]
["5200-150-38",{"$f":"NCCF!Q23","v":0}]
["5200-160-38",{"$f":"NCCF!Q24","v":0}]
["5200-170-38",{"$f":"NCCF!Q25","v":0}]
["5200-180-38",{"$f":"NCCF!Q26","v":0}]
["5200-190-38",{"$f":"NCCF!Q27","v":0}]
["5200-200-38",{"$f":"NCCF!Q28","v":0}]
["5200-210-38",{"$f":"NCCF!Q29","v":0}]
["5200-220-38",{"$f":"NCCF!Q31","v":0}]
["5200-240-38",{"$f":"NCCF!Q36","v":0}]
["5200-250-38",{"$f":"NCCF!Q37","v":0}]
["5200-260-38",{"$f":"NCCF!Q39","v":0}]
["5200-270-38",{"$f":"NCCF!Q41","v":0}]
["5200-300-38",{"$f":"NCCF!Q45","v":0}]
["5200-310-38",{"$f":"NCCF!Q46","v":0}]
["5200-320-38",{"$f":"NCCF!Q47","v":0}]
["5200-330-38",{"$f":"NCCF!Q48","v":0}]
["5200-340-38",{"$f":"NCCF!Q50","v":0}]
["5200-350-38",{"$f":"NCCF!Q51","v":0}]
["5200-360-38",{"$f":"NCCF!Q52","v":0}]
["5200-370-38",{"$f":"NCCF!Q53","v":0}]
["5200-400-38",{"$f":"NCCF!Q55","v":0}]
["5200-450-38",{"$f":"NCCF!Q59","v":0}]
["5200-500-38",{"$f":"NCCF!Q65","v":0}]
["5200-510-38",{"$f":"NCCF!Q66","v":0}]
["5200-520-38",{"$f":"NCCF!Q67","v":0}]
["5200-530-38",{"$f":"NCCF!Q68","v":0}]
["5200-540-38",{"$f":"NCCF!Q70","v":0}]
["5200-550-38",{"$f":"NCCF!Q71","v":0}]
["5200-560-38",{"$f":"NCCF!Q72","v":0}]
["5200-570-38",{"$f":"NCCF!Q73","v":0}]
["5200-580-38",{"$f":"NCCF!Q74","v":0}]
["5200-610-38",{"$f":"NCCF!Q79","v":0}]
["5200-620-38",{"$f":"NCCF!Q80","v":0}]
["5200-650-38",{"$f":"NCCF!Q82","v":0}]
["5200-750-38",{"$f":"NCCF!Q88","v":0}]
["5200-800-38",{"$f":"NCCF!Q90","v":0}]
["5200-850-38",{"$f":"NCCF!Q92","v":0}]
["5200-110-39",{"$f":"NCCF!R18","v":0}]
["5200-120-39",{"$f":"NCCF!R19","v":0}]
["5200-130-39",{"$f":"NCCF!R20","v":0}]
["5200-140-39",{"$f":"NCCF!R22","v":0}]
["5200-150-39",{"$f":"NCCF!R23","v":0}]
["5200-160-39",{"$f":"NCCF!R24","v":0}]
["5200-170-39",{"$f":"NCCF!R25","v":0}]
["5200-180-39",{"$f":"NCCF!R26","v":0}]
["5200-190-39",{"$f":"NCCF!R27","v":0}]
["5200-200-39",{"$f":"NCCF!R28","v":0}]
["5200-210-39",{"$f":"NCCF!R29","v":0}]
["5200-220-39",{"$f":"NCCF!R31","v":0}]
["5200-240-39",{"$f":"NCCF!R36","v":0}]
["5200-250-39",{"$f":"NCCF!R37","v":0}]
["5200-260-39",{"$f":"NCCF!R39","v":0}]
["5200-270-39",{"$f":"NCCF!R41","v":0}]
["5200-300-39",{"$f":"NCCF!R45","v":0}]
["5200-310-39",{"$f":"NCCF!R46","v":0}]
["5200-320-39",{"$f":"NCCF!R47","v":0}]
["5200-330-39",{"$f":"NCCF!R48","v":0}]
["5200-340-39",{"$f":"NCCF!R50","v":0}]
["5200-350-39",{"$f":"NCCF!R51","v":0}]
["5200-360-39",{"$f":"NCCF!R52","v":0}]
["5200-370-39",{"$f":"NCCF!R53","v":0}]
["5200-400-39",{"$f":"NCCF!R55","v":0}]
["5200-450-39",{"$f":"NCCF!R59","v":0}]
["5200-500-39",{"$f":"NCCF!R65","v":0}]
["5200-510-39",{"$f":"NCCF!R66","v":0}]
["5200-520-39",{"$f":"NCCF!R67","v":0}]
["5200-530-39",{"$f":"NCCF!R68","v":0}]
["5200-540-39",{"$f":"NCCF!R70","v":0}]
["5200-550-39",{"$f":"NCCF!R71","v":0}]
["5200-560-39",{"$f":"NCCF!R72","v":0}]
["5200-570-39",{"$f":"NCCF!R73","v":0}]
["5200-580-39",{"$f":"NCCF!R74","v":0}]
["5200-610-39",{"$f":"NCCF!R79","v":0}]
["5200-620-39",{"$f":"NCCF!R80","v":0}]
["5200-650-39",{"$f":"NCCF!R82","v":0}]
["5200-750-39",{"$f":"NCCF!R88","v":0}]
["5200-800-39",{"$f":"NCCF!R90","v":0}]
["5200-850-39",{"$f":"NCCF!R92","v":0}]
["5200-110-40",{"$f":"NCCF!S18","v":0}]
["5200-120-40",{"$f":"NCCF!S19","v":0}]
["5200-130-40",{"$f":"NCCF!S20","v":0}]
["5200-140-40",{"$f":"NCCF!S22","v":0}]
["5200-150-40",{"$f":"NCCF!S23","v":0}]
["5200-160-40",{"$f":"NCCF!S24","v":0}]
["5200-170-40",{"$f":"NCCF!S25","v":0}]
["5200-180-40",{"$f":"NCCF!S26","v":0}]
["5200-190-40",{"$f":"NCCF!S27","v":0}]
["5200-200-40",{"$f":"NCCF!S28","v":0}]
["5200-210-40",{"$f":"NCCF!S29","v":0}]
["5200-220-40",{"$f":"NCCF!S31","v":0}]
["5200-240-40",{"$f":"NCCF!S36","v":0}]
["5200-250-40",{"$f":"NCCF!S37","v":0}]
["5200-260-40",{"$f":"NCCF!S39","v":0}]
["5200-270-40",{"$f":"NCCF!S41","v":0}]
["5200-300-40",{"$f":"NCCF!S45","v":0}]
["5200-310-40",{"$f":"NCCF!S46","v":0}]
["5200-320-40",{"$f":"NCCF!S47","v":0}]
["5200-330-40",{"$f":"NCCF!S48","v":0}]
["5200-340-40",{"$f":"NCCF!S50","v":0}]
["5200-350-40",{"$f":"NCCF!S51","v":0}]
["5200-360-40",{"$f":"NCCF!S52","v":0}]
["5200-370-40",{"$f":"NCCF!S53","v":0}]
["5200-400-40",{"$f":"NCCF!S55","v":0}]
["5200-450-40",{"$f":"NCCF!S59","v":0}]
["5200-500-40",{"$f":"NCCF!S65","v":0}]
["5200-510-40",{"$f":"NCCF!S66","v":0}]
["5200-520-40",{"$f":"NCCF!S67","v":0}]
["5200-530-40",{"$f":"NCCF!S68","v":0}]
["5200-540-40",{"$f":"NCCF!S70","v":0}]
["5200-550-40",{"$f":"NCCF!S71","v":0}]
["5200-560-40",{"$f":"NCCF!S72","v":0}]
["5200-570-40",{"$f":"NCCF!S73","v":0}]
["5200-580-40",{"$f":"NCCF!S74","v":0}]
["5200-610-40",{"$f":"NCCF!S79","v":0}]
["5200-620-40",{"$f":"NCCF!S80","v":0}]
["5200-650-40",{"$f":"NCCF!S82","v":0}]
["5200-750-40",{"$f":"NCCF!S88","v":0}]
["5200-800-40",{"$f":"NCCF!S90","v":0}]
["5200-850-40",{"$f":"NCCF!S92","v":0}]
["5200-110-50",{"$f":"NCCF!T18","v":0}]
["5200-120-50",{"$f":"NCCF!T19","v":0}]
["5200-130-50",{"$f":"NCCF!T20","v":0}]
["5200-140-50",{"$f":"NCCF!T22","v":0}]
["5200-150-50",{"$f":"NCCF!T23","v":0}]
["5200-160-50",{"$f":"NCCF!T24","v":0}]
["5200-170-50",{"$f":"NCCF!T25","v":0}]
["5200-180-50",{"$f":"NCCF!T26","v":0}]
["5200-190-50",{"$f":"NCCF!T27","v":0}]
["5200-200-50",{"$f":"NCCF!T28","v":0}]
["5200-210-50",{"$f":"NCCF!T29","v":0}]
["5200-220-50",{"$f":"NCCF!T31","v":0}]
["5200-240-50",{"$f":"NCCF!T36","v":0}]
["5200-250-50",{"$f":"NCCF!T37","v":0}]
["5200-260-50",{"$f":"NCCF!T39","v":0}]
["5200-270-50",{"$f":"NCCF!T41","v":0}]
["5200-300-50",{"$f":"NCCF!T45","v":0}]
["5200-310-50",{"$f":"NCCF!T46","v":0}]
["5200-320-50",{"$f":"NCCF!T47","v":0}]
["5200-330-50",{"$f":"NCCF!T48","v":0}]
["5200-340-50",{"$f":"NCCF!T50","v":0}]
["5200-350-50",{"$f":"NCCF!T51","v":0}]
["5200-360-50",{"$f":"NCCF!T52","v":0}]
["5200-370-50",{"$f":"NCCF!T53","v":0}]
["5200-400-50",{"$f":"NCCF!T55","v":0}]
["5200-410-50",{"$f":"NCCF!T57","v":0}]
["5200-450-50",{"$f":"NCCF!T59","v":0}]
["5200-500-50",{"$f":"NCCF!T65","v":0}]
["5200-510-50",{"$f":"NCCF!T66","v":0}]
["5200-520-50",{"$f":"NCCF!T67","v":0}]
["5200-530-50",{"$f":"NCCF!T68","v":0}]
["5200-540-50",{"$f":"NCCF!T70","v":0}]
["5200-550-50",{"$f":"NCCF!T71","v":0}]
["5200-560-50",{"$f":"NCCF!T72","v":0}]
["5200-570-50",{"$f":"NCCF!T73","v":0}]
["5200-580-50",{"$f":"NCCF!T74","v":0}]
["5200-610-50",{"$f":"NCCF!T79","v":0}]
["5200-620-50",{"$f":"NCCF!T80","v":0}]
["5200-650-50",{"$f":"NCCF!T82","v":0}]
["5200-660-50",{"$f":"NCCF!T84","v":0}]
["5200-700-50",{"$f":"NCCF!T86","v":0}]
["5200-750-50",{"$f":"NCCF!T88","v":0}]
["5200-800-50",{"$f":"NCCF!T90","v":0}]
["5200-850-50",{"$f":"NCCF!T92","v":0}]

{"sheet":"Sheet1","index":4,"n_rows":0,"n_cols":0,"rows_kept":0}

{"sheet":"Sheet2","index":5,"n_rows":0,"n_cols":0,"rows_kept":0}

{"sheet":"Sheet3","index":6,"n_rows":0,"n_cols":0,"rows_kept":0}

{"sheet":"Sheet4","index":7,"n_rows":0,"n_cols":0,"rows_kept":0}

{"sheet":"Sheet5","index":8,"n_rows":0,"n_cols":0,"rows_kept":0}

{"sheet":"Sheet6","index":9,"n_rows":0,"n_cols":0,"rows_kept":0}

{"sheet":"Sheet7","index":10,"n_rows":0,"n_cols":0,"rows_kept":0}

{"sheet":"Sheet8","index":11,"n_rows":0,"n_cols":0,"rows_kept":0}

{"sheet":"Sheet9","index":12,"n_rows":0,"n_cols":0,"rows_kept":0}

{"sheet":"Sheet10","index":13,"n_rows":0,"n_cols":0,"rows_kept":0}